BEGIN:VCALENDAR
VERSION:2.0
PRODID:-//wp-events-plugin.com//7.2.3.1//EN
TZID:Pacific/Noumea
X-WR-TIMEZONE:Pacific/Noumea
BEGIN:VEVENT
UID:93@bernheim.nc
DTSTART;TZID=Pacific/Noumea:20251119T140000
DTEND;TZID=Pacific/Noumea:20251119T160000
DTSTAMP:20251118T224928Z
URL:https://www.bernheim.nc/evenements/festival-recif-realisateurs-emergen
 ts-cinema-international-et-films-du-pacifique-a-poindimie/
SUMMARY:Festival RECIF - Réalisateurs Emergents\, Cinéma international 
 et Films du Pacifique - à Poindimié !
DESCRIPTION:𝗥𝗲𝗻𝗱𝗲𝘇-𝘃𝗼𝘂𝘀 𝗹𝗲 𝟭𝟵 
 𝗻𝗼𝘃𝗲𝗺𝗯𝗿𝗲 𝗮̀ 𝟭𝟰𝗵 𝗽𝗼𝘂𝗿 𝘂
 𝗻 𝗺𝗼𝗺𝗲𝗻𝘁 𝗱𝗲 𝗽𝗮𝗿𝘁𝗮𝗴𝗲 𝗲
 𝘁 𝗱𝗲 𝗱𝗲́𝗰𝗼𝘂𝘃𝗲𝗿𝘁𝗲 𝗮𝘂𝘁𝗼
 𝘂𝗿 𝗱𝘂 𝟳𝗲̀𝗺𝗲 𝗮𝗿𝘁 ! Merci d'en parler auto
 ur de vous !
ATTACH;FMTTYPE=image/jpeg:https://www.bernheim.nc/wp-content/uploads/2025/
 10/Affiche-Poindimie-1911-scaled.jpg
CATEGORIES:Animation,Poindimié,Projection
LOCATION:Poindimié\, 44 voie urbaine n°15 à Pwêêdi Wiimîâ\, Poindimi
 é\, Nouvelle-Calédonie
X-APPLE-STRUCTURED-LOCATION;VALUE=URI;X-ADDRESS=44 voie urbaine n°15 à Pw
 êêdi Wiimîâ\, Poindimié\, Nouvelle-Calédonie;X-APPLE-RADIUS=100;X-TI
 TLE=Poindimié:geo:0,0
END:VEVENT
BEGIN:VTIMEZONE
TZID:Pacific/Noumea
X-LIC-LOCATION:Pacific/Noumea
BEGIN:STANDARD
DTSTART:20241119T140000
TZOFFSETFROM:+1100
TZOFFSETTO:+1100
TZNAME:+11
END:STANDARD
END:VTIMEZONE
END:VCALENDAR